BEGIN:VCALENDAR
VERSION:2.0
PRODID:-//Climate Narratives - ECPv6.15.20//NONSGML v1.0//EN
CALSCALE:GREGORIAN
METHOD:PUBLISH
X-WR-CALNAME:Climate Narratives
X-ORIGINAL-URL:https://climatenarratives.w.uib.no
X-WR-CALDESC:Events for Climate Narratives
REFRESH-INTERVAL;VALUE=DURATION:PT1H
X-Robots-Tag:noindex
X-PUBLISHED-TTL:PT1H
BEGIN:VTIMEZONE
TZID:UTC
BEGIN:STANDARD
TZOFFSETFROM:+0000
TZOFFSETTO:+0000
TZNAME:UTC
DTSTART:20240101T000000
END:STANDARD
END:VTIMEZONE
BEGIN:VEVENT
DTSTART;TZID=UTC:20250809T080000
DTEND;TZID=UTC:20250908T170000
DTSTAMP:20260419T191027
CREATED:20250116T175235Z
LAST-MODIFIED:20250403T130850Z
UID:781-1754726400-1757350800@climatenarratives.w.uib.no
SUMMARY:Residency: Greenland Caves Project
DESCRIPTION:The Greenland Caves Project is thrilled to announce its upcoming residency at ILLU Science and Art Hub where our team of scientists\, artists\, and photographers is eager to engage with the local community and exchange experiences and scientific findings about the little-explored caves in North Greenland.  \nWe have prepared an exciting programme of events\, including educational films (in Greenlandic\, English and German)\, an art and science exhibition featuring photographs from our past four exhibitions to North Greenland\, plus hands-on interactive science activities\, and fun games for the younger (and older) audiences. Through project KINDLE (Kalaallit Nunaat Caves and Climate Outreach) our aim is to bring our findings of cave and palaeoclimate research in Greenland to the local (and passing tourist) communities.  \nDuring the residency\, we will be holding training workshops on cave exploration and mapping techniques\, and hopefully inspire the next generation to join\, or better lead\, future expeditions in the north of the country. \n \nOur team includes Gina Moseley\, leader of the Greenland Caves Project and four expeditions to Greenland. \n \nLena Friedrich\, an early career scientist at the University of Innsbruck\, working with cave deposits from the Greenland caves project and assisting KINDLE with administrative duties. \n \nRobbie Shone\, world-reknowned cave photographer and member of four Greenland Caves Project expeditions. \n \nMadeline Shone\, Gina’s daughter and chief mischief maker. \nAnd you!  \nWe welcome a Greenlandic-based artist-in-residence to join our team at the ILLU Science and Art hub for the duration of the residency. Personal costs are covered. Please contact Gina Moseley for further details.  \nWe are also seeking a Greenlandic translator\, who can assist the GCP team during the residency. \nEveryone else\, whether a local resident or passing tourist\, please stop by to have a chat\, learn about caves\, palaeoclimate\, science and art. We look forward to meeting as many of you as possible in Ilulissat. \nFurther details regarding the programme will be communicated in due course.
URL:https://climatenarratives.w.uib.no/event/residency-gina-elaine-moseley/
LOCATION:Illu\, Illumiut aqq. 18\, Ilulissat\, 3952\, Greenland
CATEGORIES:Science Residency
END:VEVENT
END:VCALENDAR