BEGIN:VCALENDAR
VERSION:2.0
PRODID:-//Climate Narratives - ECPv6.15.20//NONSGML v1.0//EN
CALSCALE:GREGORIAN
METHOD:PUBLISH
X-WR-CALNAME:Climate Narratives
X-ORIGINAL-URL:https://climatenarratives.w.uib.no
X-WR-CALDESC:Events for Climate Narratives
REFRESH-INTERVAL;VALUE=DURATION:PT1H
X-Robots-Tag:noindex
X-PUBLISHED-TTL:PT1H
BEGIN:VTIMEZONE
TZID:UTC
BEGIN:STANDARD
TZOFFSETFROM:+0000
TZOFFSETTO:+0000
TZNAME:UTC
DTSTART:20240101T000000
END:STANDARD
END:VTIMEZONE
BEGIN:VEVENT
DTSTART;TZID=UTC:20250501T080000
DTEND;TZID=UTC:20250531T170000
DTSTAMP:20260419T191654
CREATED:20250117T105848Z
LAST-MODIFIED:20250306T112753Z
UID:790-1746086400-1748710800@climatenarratives.w.uib.no
SUMMARY:Residency: Elizabeth Ultee
DESCRIPTION:We are a team of 4 US-based scientists studying the dynamics of Sermeq Kujalleq glacier in the Ilulissat Icefjord. As part of our US National Science Foundation grant\, we are working with museum professionals on a special exhibition about fast-changing tidewater glaciers and people’s interaction with them. The exhibit is planned for ILLU in 2026/27. \n \nElizabeth Ultee\, Associate Research Scientist\, NASA Goddard \nAmy Jenson\, PhD student\, university of Alaska Fairbanks \nMartin Truffer\, Professor of Physics\, university of Alaska Fairbanks \nJason Amundson\, Professor of Geophysics\, university of Alaska Southwest \n 
URL:https://climatenarratives.w.uib.no/event/residency-elizabeth-ultee/
LOCATION:Illu\, Illumiut aqq. 18\, Ilulissat\, 3952\, Greenland
CATEGORIES:Science Residency
END:VEVENT
END:VCALENDAR